Workbook

Sheet PBI sectorial trim. a p.93
A1: ESTIMACION DEL PRODUCTO INTERNO BRUTO a precios de mercado por sector de actividad economica
A2: Millones de pesos, a precios de 1993
A3: Serie Trimestral
A4: FUENTE: ARKLEMS+LAND
O5: VALOR | Q5: VALOR | T5: PRODUCTO
L6: Actividades | N6: Otros Servicios | O6: AGREGADO | P6: Servicios de | Q6: AGREGADO | T6: BRUTO
B7: Agricultura, | F7: Suministro de | H7: Comercio mayo- | J7: Transporte, | L7: inmobiliarias, | M7: Administración | O7: BRUTO | P7: Intermediación | Q7: BRUTO | R7: Impuesto al | T7: INTERNO
B8: ganadería, caza y | D8: Explotación de | E8: Industria | F8: electricidad, gas y | H8: rista y minorista | I8: Hoteles y | J8: almacenamiento y | K8: Intermediación | L8: empresariales y | M8: pública y | O8: SECTORIAL | P8: Financiera Medidos | Q8: a precios de | R8: Valor | S8: Impuesto a las | T8: a precios de
A9: Período | B9: silvicultura | C9: Pesca | D9: minas y canteras | E9: manufacturera | F9: agua | G9: Construcción | H9: y reparaciones | I9: restaurantes | J9: comunicaciones | K9: financiera | L9: de alquiler | M9: defensa | O9: (sin netear SIFMI) | P9: Indirectamente | Q9: productor | R9: Agregado | S9: importaciones | T9: mercado
A10: I_93 | B10: 10830.213 | C10: 374.30654 | D10: 3118.7905 | E10: 38175.87 | F10: 4345.0672 | G10: 12481.975 | H10: 30666.748 | I10: 5608.159 | J10: 15116.449 | K10: 8463.1298 | L10: 31778.761 | M10: 14567.177 | N10: 26610.109 | O10: =SUM(B10:N10) -> 202136.76 | P10: 3035.3225 | Q10: =+O10-P10 -> 199101.43 | R10: 15366.955 | S10: 1901.7218 | T10: =SUM(Q10:S10) -> 216370.11
A11: II_93 | B11: 13756.109 | C11: 529.8385 | D11: 3412.2829 | E11: 44422.151 | F11: 4655.2044 | G11: 13151.417 | H11: 35849.789 | I11: 5047.5737 | J11: 15995.289 | K11: 8981.1443 | L11: 34513.517 | M11: 14572.629 | N11: 32043.923 | O11: =SUM(B11:N11) -> 226930.87 | P11: 3337.6536 | Q11: =+O11-P11 -> 223593.21 | R11: 16016.931 | S11: 2261.7128 | T11: =SUM(Q11:S11) -> 241871.86
A12: III_93 | B12: 10758.399 | C12: 392.5762 | D12: 3666.0677 | E12: 44980.046 | F12: 4914.0936 | G12: 13760.712 | H12: 34537.222 | I12: 5396.7016 | J12: 16383.312 | K12: 9600.1938 | L12: 34922.47 | M12: 14564.657 | N12: 32583.053 | O12: =SUM(B12:N12) -> 226459.5 | P12: 3459.809 | Q12: =+O12-P12 -> 222999.69 | R12: 16964.456 | S12: 2681.3717 | T12: =SUM(Q12:S12) -> 242645.52
A13: IV_93 | B13: 11603.038 | C13: 350.91904 | D13: 3911.7118 | E13: 44975.124 | F13: 4481.7719 | G13: 14177.628 | H13: 34396.229 | I13: 5674.7283 | J13: 17040.351 | K13: 10151.681 | L13: 35312.13 | M13: 14543.846 | N13: 32689.424 | O13: =SUM(B13:N13) -> 229308.58 | P13: 3811.3231 | Q13: =+O13-P13 -> 225497.26 | R13: 16718.217 | S13: 2916.9514 | T13: =SUM(Q13:S13) -> 245132.43
A14: I_94 | B14: 11796.727 | C14: 363.86932 | D14: 3658.8303 | E14: 41193.467 | F14: 4753.8125 | G14: 13194.988 | H14: 33353.07 | I14: 6096.5971 | J14: 16891.924 | K14: 10689.531 | L14: 33895.711 | M14: 14044.949 | N14: 27901.087 | O14: =SUM(B14:N14) -> 217834.56 | P14: 4274.9267 | Q14: =+O14-P14 -> 213559.64 | R14: 16491.737 | S14: 2893.9534 | T14: =SUM(Q14:S14) -> 232945.33
A15: II_94 | B15: 14937.694 | C15: 471.35363 | D15: 3922.5113 | E15: 45749.546 | F15: 5089.9186 | G15: 14115.791 | H15: 38341.94 | I15: 5543.9105 | J15: 17728.79 | K15: 10994.524 | L15: 36551.039 | M15: 14234.641 | N15: 33530.349 | O15: =SUM(B15:N15) -> 241212.01 | P15: 4430.0397 | Q15: =+O15-P15 -> 236781.97 | R15: 17570.708 | S15: 3124.2197 | T15: =SUM(Q15:S15) -> 257476.89
A16: III_94 | B16: 11731.124 | C16: 428.33442 | D16: 4074.8427 | E16: 46684.473 | F16: 5422.3457 | G16: 14359.912 | H16: 36437.907 | I16: 5746.4499 | J16: 18075.835 | K16: 11144.541 | L16: 36683.047 | M16: 14239.927 | N16: 33438.979 | O16: =SUM(B16:N16) -> 238467.72 | P16: 4682.871 | Q16: =+O16-P16 -> 233784.85 | R16: 16577.826 | S16: 3105.1064 | T16: =SUM(Q16:S16) -> 253467.78
A17: IV_94 | B17: 12145.669 | C17: 351.74052 | D17: 4392.8532 | E17: 46689.972 | F17: 5123.3238 | G17: 14984.935 | H17: 36045.576 | I17: 6189.3707 | J17: 18474.462 | K17: 11930.994 | L17: 38329.049 | M17: 14251.783 | N17: 33492.869 | O17: =SUM(B17:N17) -> 242402.6 | P17: 4907.172 | Q17: =+O17-P17 -> 237495.42 | R17: 16694.696 | S17: 3151.4234 | T17: =SUM(Q17:S17) -> 257341.54
A18: I_95 | B18: 13333.072 | C18: 359.26945 | D18: 4225.5807 | E18: 41082.015 | F18: 5268.3813 | G18: 13318.872 | H18: 33153.519 | I18: 6321.426 | J18: 18071.532 | K18: 10974.962 | L18: 35019.829 | M18: 14047.915 | N18: 28465.331 | O18: =SUM(B18:N18) -> 223641.7 | P18: 4587.5228 | Q18: =+O18-P18 -> 219054.18 | R18: 16138.874 | S18: 2775.0473 | T18: =SUM(Q18:S18) -> 237968.1
A19: II_95 | B19: 17050.526 | C19: 507.74896 | D19: 4773.3091 | E19: 41678.416 | F19: 5472.523 | G19: 12206.225 | H19: 34318.776 | I19: 5305.3694 | J19: 17987.959 | K19: 10796.591 | L19: 35690.631 | M19: 14141.068 | N19: 33662.918 | O19: =SUM(B19:N19) -> 233592.06 | P19: 4458.9185 | Q19: =+O19-P19 -> 229133.14 | R19: 16435.262 | S19: 2525.2354 | T19: =SUM(Q19:S19) -> 248093.64
A20: III_95 | B20: 11657.453 | C20: 374.18753 | D20: 4928.2271 | E20: 42237.932 | F20: 5735.1129 | G20: 12038.676 | H20: 32402.514 | I20: 5442.0414 | J20: 17930.226 | K20: 10697.378 | L20: 36403.816 | M20: 14153.962 | N20: 34094.589 | O20: =SUM(B20:N20) -> 228096.11 | P20: 4295.2854 | Q20: =+O20-P20 -> 223800.83 | R20: 15891.66 | S20: 2522.2105 | T20: =SUM(Q20:S20) -> 242214.7
A21: IV_95 | B21: 11479.024 | C21: 402.90577 | D21: 4752.8841 | E21: 42400.094 | F21: 5428.6365 | G21: 12200.614 | H21: 32391.206 | I21: 5881.1898 | J21: 18404.085 | K21: 11676.336 | L21: 37216.457 | M21: 14131.732 | N21: 33584.586 | O21: =SUM(B21:N21) -> 229949.75 | P21: 4807.7895 | Q21: =+O21-P21 -> 225141.96 | R21: 16598.889 | S21: 2727.1146 | T21: =SUM(Q21:S21) -> 244467.96
... A93: IV_13 | B93: 11418.088 | C93: 567.76082 | D93: 4852.756 | E93: 65742.903 | F93: 10942.86 | G93: 28627.892 | H93: 51362.743 | I93: 9394.424 | J93: 61140.072 | K93: 18340.334 | L93: 54061.671 | M93: 20721.441 | N93: 55876.881 | O93: =SUM(B93:N93) -> 393049.83 | P93: 4237.3825 | Q93: =+O93-P93 -> 388812.44 | R93: 28641.103 | S93: 8580.3431 | T93: =SUM(Q93:S93) -> 426033.89

Sheet %Var Serie Trimestral
A1: ESTIMACION DEL PRODUCTO INTERNO BRUTO a precios de mercado por sector de actividad economica
A2: ESTIMACION DEL PRODUCTO INTERNO BRUTO
A3: Serie trimestral Tasa de variacion con respecto a igual periodo del año anterior
A4: FUENTE: ARKLEMS+LAND
O6: VALOR | Q6: VALOR | T6: PRODUCTO
L7: Actividades | N7: Otros Servicios | O7: AGREGADO | P7: Servicios de | Q7: AGREGADO | T7: BRUTO
B8: Agricultura, | F8: Suministro de | H8: Comercio mayo- | J8: Transporte, | L8: inmobiliarias, | M8: Administración | O8: BRUTO | P8: Intermediación | Q8: BRUTO | R8: Impuesto al | T8: INTERNO
B9: ganadería, caza y | D9: Explotación de | E9: Industria | F9: electricidad, gas y | H9: rista y minorista | I9: Hoteles y | J9: almacenamiento y | K9: Intermediación | L9: empresariales y | M9: pública y | O9: SECTORIAL | P9: Financiera Medidos | Q9: a precios de | R9: Valor | S9: Impuesto a las | T9: a precios de
A10: Período | B10: silvicultura | C10: Pesca | D10: minas y canteras | E10: manufacturera | F10: agua | G10: Construcción | H10: y reparaciones | I10: restaurantes | J10: comunicaciones | K10: financiera | L10: de alquiler | M10: defensa | O10: (sin netear SIFMI) | P10: Indirectamente | Q10: productor | R10: Agregado | S10: importaciones | T10: mercado
A11: I_93
A12: II_93
A13: III_93
A14: IV_93
A15: I_94 | B15: =+'PBI sectorial trim. a p.93'!B14/'PBI sectorial trim. a p.93'!B10-1 -> 0.089242333 | C15: =+'PBI sectorial trim. a p.93'!C14/'PBI sectorial trim. a p.93'!C10-1 -> -0.027884152 | D15: =+'PBI sectorial trim. a p.93'!D14/'PBI sectorial trim. a p.93'!D10-1 -> 0.17315682 | E15: =+'PBI sectorial trim. a p.93'!E14/'PBI sectorial trim. a p.93'!E10-1 -> 0.079044593 | F15: =+'PBI sectorial trim. a p.93'!F14/'PBI sectorial trim. a p.93'!F10-1 -> 0.094071093 | G15: =+'PBI sectorial trim. a p.93'!G14/'PBI sectorial trim. a p.93'!G10-1 -> 0.057123359 | H15: =+'PBI sectorial trim. a p.93'!H14/'PBI sectorial trim. a p.93'!H10-1 -> 0.087597238 | I15: =+'PBI sectorial trim. a p.93'!I14/'PBI sectorial trim. a p.93'!I10-1 -> 0.087094198 | ... T15: =+'PBI sectorial trim. a p.93'!T14/'PBI sectorial trim. a p.93'!T10-1 -> 0.076605841
A16: II_94 | B16: =+'PBI sectorial trim. a p.93'!B15/'PBI sectorial trim. a p.93'!B11-1 -> 0.085895256 | C16: =+'PBI sectorial trim. a p.93'!C15/'PBI sectorial trim. a p.93'!C11-1 -> -0.11038244 | D16: =+'PBI sectorial trim. a p.93'!D15/'PBI sectorial trim. a p.93'!D11-1 -> 0.149527 | E16: =+'PBI sectorial trim. a p.93'!E15/'PBI sectorial trim. a p.93'!E11-1 -> 0.029881366 | F16: =+'PBI sectorial trim. a p.93'!F15/'PBI sectorial trim. a p.93'!F11-1 -> 0.093382409 | G16: =+'PBI sectorial trim. a p.93'!G15/'PBI sectorial trim. a p.93'!G11-1 -> 0.073328532 | H16: =+'PBI sectorial trim. a p.93'!H15/'PBI sectorial trim. a p.93'!H11-1 -> 0.069516462 | I16: =+'PBI sectorial trim. a p.93'!I15/'PBI sectorial trim. a p.93'!I11-1 -> 0.098331775 | ... T16: =+'PBI sectorial trim. a p.93'!T15/'PBI sectorial trim. a p.93'!T11-1 -> 0.064517784
A17: III_94 | B17: =+'PBI sectorial trim. a p.93'!B16/'PBI sectorial trim. a p.93'!B12-1 -> 0.090415343 | C17: =+'PBI sectorial trim. a p.93'!C16/'PBI sectorial trim. a p.93'!C12-1 -> 0.091086066 | D17: =+'PBI sectorial trim. a p.93'!D16/'PBI sectorial trim. a p.93'!D12-1 -> 0.11150231 | E17: =+'PBI sectorial trim. a p.93'!E16/'PBI sectorial trim. a p.93'!E12-1 -> 0.037892964 | F17: =+'PBI sectorial trim. a p.93'!F16/'PBI sectorial trim. a p.93'!F12-1 -> 0.10342743 | G17: =+'PBI sectorial trim. a p.93'!G16/'PBI sectorial trim. a p.93'!G12-1 -> 0.043544223 | H17: =+'PBI sectorial trim. a p.93'!H16/'PBI sectorial trim. a p.93'!H12-1 -> 0.055032935 | I17: =+'PBI sectorial trim. a p.93'!I16/'PBI sectorial trim. a p.93'!I12-1 -> 0.064807774 | ... T17: =+'PBI sectorial trim. a p.93'!T16/'PBI sectorial trim. a p.93'!T12-1 -> 0.044601094
A18: IV_94 | B18: =+'PBI sectorial trim. a p.93'!B17/'PBI sectorial trim. a p.93'!B13-1 -> 0.046766243 | C18: =+'PBI sectorial trim. a p.93'!C17/'PBI sectorial trim. a p.93'!C13-1 -> 0.0023409236 | D18: =+'PBI sectorial trim. a p.93'!D17/'PBI sectorial trim. a p.93'!D13-1 -> 0.1230002 | E18: =+'PBI sectorial trim. a p.93'!E17/'PBI sectorial trim. a p.93'!E13-1 -> 0.038128801 | F18: =+'PBI sectorial trim. a p.93'!F17/'PBI sectorial trim. a p.93'!F13-1 -> 0.14314695 | G18: =+'PBI sectorial trim. a p.93'!G17/'PBI sectorial trim. a p.93'!G13-1 -> 0.056942299 | H18: =+'PBI sectorial trim. a p.93'!H17/'PBI sectorial trim. a p.93'!H13-1 -> 0.04795138 | I18: =+'PBI sectorial trim. a p.93'!I17/'PBI sectorial trim. a p.93'!I13-1 -> 0.090690243 | ... T18: =+'PBI sectorial trim. a p.93'!T17/'PBI sectorial trim. a p.93'!T13-1 -> 0.0498062
A19: I_95 | B19: =+'PBI sectorial trim. a p.93'!B18/'PBI sectorial trim. a p.93'!B14-1 -> 0.13023484 | C19: =+'PBI sectorial trim. a p.93'!C18/'PBI sectorial trim. a p.93'!C14-1 -> -0.012641528 | D19: =+'PBI sectorial trim. a p.93'!D18/'PBI sectorial trim. a p.93'!D14-1 -> 0.15489934 | E19: =+'PBI sectorial trim. a p.93'!E18/'PBI sectorial trim. a p.93'!E14-1 -> -0.0027055553 | F19: =+'PBI sectorial trim. a p.93'!F18/'PBI sectorial trim. a p.93'!F14-1 -> 0.1082434 | G19: =+'PBI sectorial trim. a p.93'!G18/'PBI sectorial trim. a p.93'!G14-1 -> 0.0093887777 | H19: =+'PBI sectorial trim. a p.93'!H18/'PBI sectorial trim. a p.93'!H14-1 -> -0.005983014 | I19: =+'PBI sectorial trim. a p.93'!I18/'PBI sectorial trim. a p.93'!I14-1 -> 0.036877761 | ... T19: =+'PBI sectorial trim. a p.93'!T18/'PBI sectorial trim. a p.93'!T14-1 -> 0.021562044
A20: II_95 | B20: =+'PBI sectorial trim. a p.93'!B19/'PBI sectorial trim. a p.93'!B15-1 -> 0.14144303 | C20: =+'PBI sectorial trim. a p.93'!C19/'PBI sectorial trim. a p.93'!C15-1 -> 0.077214488 | D20: =+'PBI sectorial trim. a p.93'!D19/'PBI sectorial trim. a p.93'!D15-1 -> 0.21690131 | E20: =+'PBI sectorial trim. a p.93'!E19/'PBI sectorial trim. a p.93'!E15-1 -> -0.088987328 | F20: =+'PBI sectorial trim. a p.93'!F19/'PBI sectorial trim. a p.93'!F15-1 -> 0.075169059 | G20: =+'PBI sectorial trim. a p.93'!G19/'PBI sectorial trim. a p.93'!G15-1 -> -0.13527869 | H20: =+'PBI sectorial trim. a p.93'!H19/'PBI sectorial trim. a p.93'!H15-1 -> -0.10492854 | I20: =+'PBI sectorial trim. a p.93'!I19/'PBI sectorial trim. a p.93'!I15-1 -> -0.043027596 | ... T20: =+'PBI sectorial trim. a p.93'!T19/'PBI sectorial trim. a p.93'!T15-1 -> -0.036443097
A21: III_95 | B21: =+'PBI sectorial trim. a p.93'!B20/'PBI sectorial trim. a p.93'!B16-1 -> -0.0062799331 | C21: =+'PBI sectorial trim. a p.93'!C20/'PBI sectorial trim. a p.93'!C16-1 -> -0.12641264 | D21: =+'PBI sectorial trim. a p.93'!D20/'PBI sectorial trim. a p.93'!D16-1 -> 0.20942756 | E21: =+'PBI sectorial trim. a p.93'!E20/'PBI sectorial trim. a p.93'!E16-1 -> -0.095246692 | F21: =+'PBI sectorial trim. a p.93'!F20/'PBI sectorial trim. a p.93'!F16-1 -> 0.057681163 | G21: =+'PBI sectorial trim. a p.93'!G20/'PBI sectorial trim. a p.93'!G16-1 -> -0.16164693 | H21: =+'PBI sectorial trim. a p.93'!H20/'PBI sectorial trim. a p.93'!H16-1 -> -0.1107471 | I21: =+'PBI sectorial trim. a p.93'!I20/'PBI sectorial trim. a p.93'!I16-1 -> -0.0529733 | ... T21: =+'PBI sectorial trim. a p.93'!T20/'PBI sectorial trim. a p.93'!T16-1 -> -0.044396487
A22: IV_95 | B22: =+'PBI sectorial trim. a p.93'!B21/'PBI sectorial trim. a p.93'!B17-1 -> -0.054887462 | C22: =+'PBI sectorial trim. a p.93'!C21/'PBI sectorial trim. a p.93'!C17-1 -> 0.14546306 | D22: =+'PBI sectorial trim. a p.93'!D21/'PBI sectorial trim. a p.93'!D17-1 -> 0.081958329 | E22: =+'PBI sectorial trim. a p.93'!E21/'PBI sectorial trim. a p.93'!E17-1 -> -0.091880066 | F22: =+'PBI sectorial trim. a p.93'!F21/'PBI sectorial trim. a p.93'!F17-1 -> 0.059592697 | G22: =+'PBI sectorial trim. a p.93'!G21/'PBI sectorial trim. a p.93'!G17-1 -> -0.18580801 | H22: =+'PBI sectorial trim. a p.93'!H21/'PBI sectorial trim. a p.93'!H17-1 -> -0.10138192 | I22: =+'PBI sectorial trim. a p.93'!I21/'PBI sectorial trim. a p.93'!I17-1 -> -0.049791972 | ... T22: =+'PBI sectorial trim. a p.93'!T21/'PBI sectorial trim. a p.93'!T17-1 -> -0.050025266
A23: I_96 | B23: =+'PBI sectorial trim. a p.93'!B22/'PBI sectorial trim. a p.93'!B18-1 -> -0.075388257 | C23: =+'PBI sectorial trim. a p.93'!C22/'PBI sectorial trim. a p.93'!C18-1 -> 0.042664071 | D23: =+'PBI sectorial trim. a p.93'!D22/'PBI sectorial trim. a p.93'!D18-1 -> 0.12074691 | E23: =+'PBI sectorial trim. a p.93'!E22/'PBI sectorial trim. a p.93'!E18-1 -> -0.027250445 | F23: =+'PBI sectorial trim. a p.93'!F22/'PBI sectorial trim. a p.93'!F18-1 -> 0.037409155 | G23: =+'PBI sectorial trim. a p.93'!G22/'PBI sectorial trim. a p.93'!G18-1 -> -0.087724435 | H23: =+'PBI sectorial trim. a p.93'!H22/'PBI sectorial trim. a p.93'!H18-1 -> -0.037304511 | I23: =+'PBI sectorial trim. a p.93'!I22/'PBI sectorial trim. a p.93'!I18-1 -> 0.024892424 | ... T23: =+'PBI sectorial trim. a p.93'!T22/'PBI sectorial trim. a p.93'!T18-1 -> -0.0058918254
A24: II_96 | B24: =+'PBI sectorial trim. a p.93'!B23/'PBI sectorial trim. a p.93'!B19-1 -> -0.08888401 | C24: =+'PBI sectorial trim. a p.93'!C23/'PBI sectorial trim. a p.93'!C19-1 -> 0.21191952 | D24: =+'PBI sectorial trim. a p.93'!D23/'PBI sectorial trim. a p.93'!D19-1 -> 0.049326399 | E24: =+'PBI sectorial trim. a p.93'!E23/'PBI sectorial trim. a p.93'!E19-1 -> 0.080977726 | F24: =+'PBI sectorial trim. a p.93'!F23/'PBI sectorial trim. a p.93'!F19-1 -> 0.042416041 | G24: =+'PBI sectorial trim. a p.93'!G23/'PBI sectorial trim. a p.93'!G19-1 -> 0.042756354 | H24: =+'PBI sectorial trim. a p.93'!H23/'PBI sectorial trim. a p.93'!H19-1 -> 0.07725008 | I24: =+'PBI sectorial trim. a p.93'!I23/'PBI sectorial trim. a p.93'!I19-1 -> 0.10266445 | ... T24: =+'PBI sectorial trim. a p.93'!T23/'PBI sectorial trim. a p.93'!T19-1 -> 0.05102221
A25: III_96 | B25: =+'PBI sectorial trim. a p.93'!B24/'PBI sectorial trim. a p.93'!B20-1 -> 0.028948703 | C25: =+'PBI sectorial trim. a p.93'!C24/'PBI sectorial trim. a p.93'!C20-1 -> 0.1182265 | D25: =+'PBI sectorial trim. a p.93'!D24/'PBI sectorial trim. a p.93'!D20-1 -> 0.0044562709 | E25: =+'PBI sectorial trim. a p.93'!E24/'PBI sectorial trim. a p.93'!E20-1 -> 0.091885813 | F25: =+'PBI sectorial trim. a p.93'!F24/'PBI sectorial trim. a p.93'!F20-1 -> 0.036100798 | G25: =+'PBI sectorial trim. a p.93'!G24/'PBI sectorial trim. a p.93'!G20-1 -> 0.17543212 | H25: =+'PBI sectorial trim. a p.93'!H24/'PBI sectorial trim. a p.93'!H20-1 -> 0.12902766 | I25: =+'PBI sectorial trim. a p.93'!I24/'PBI sectorial trim. a p.93'!I20-1 -> 0.14330192 | ... T25: =+'PBI sectorial trim. a p.93'!T24/'PBI sectorial trim. a p.93'!T20-1 -> 0.082374293
A26: IV_96 | B26: =+'PBI sectorial trim. a p.93'!B25/'PBI sectorial trim. a p.93'!B21-1 -> 0.11601632 | C26: =+'PBI sectorial trim. a p.93'!C25/'PBI sectorial trim. a p.93'!C21-1 -> 0.12308807 | D26: =+'PBI sectorial trim. a p.93'!D25/'PBI sectorial trim. a p.93'!D21-1 -> 0.016519601 | E26: =+'PBI sectorial trim. a p.93'!E25/'PBI sectorial trim. a p.93'!E21-1 -> 0.10999402 | F26: =+'PBI sectorial trim. a p.93'!F25/'PBI sectorial trim. a p.93'!F21-1 -> 0.046340016 | G26: =+'PBI sectorial trim. a p.93'!G25/'PBI sectorial trim. a p.93'!G21-1 -> 0.22427581 | H26: =+'PBI sectorial trim. a p.93'!H25/'PBI sectorial trim. a p.93'!H21-1 -> 0.13478593 | I26: =+'PBI sectorial trim. a p.93'!I25/'PBI sectorial trim. a p.93'!I21-1 -> 0.13690729 | ... T26: =+'PBI sectorial trim. a p.93'!T25/'PBI sectorial trim. a p.93'!T21-1 -> 0.092249642
... A94: IV_13 | B94: =+'PBI sectorial trim. a p.93'!B93/'PBI sectorial trim. a p.93'!B89-1 -> 0.084280785 | C94: =+'PBI sectorial trim. a p.93'!C93/'PBI sectorial trim. a p.93'!C89-1 -> 0.242719 | D94: =+'PBI sectorial trim. a p.93'!D93/'PBI sectorial trim. a p.93'!D89-1 -> 0.011783257 | E94: =+'PBI sectorial trim. a p.93'!E93/'PBI sectorial trim. a p.93'!E89-1 -> -0.010540757 | F94: =+'PBI sectorial trim. a p.93'!F93/'PBI sectorial trim. a p.93'!F89-1 -> 0.018187298 | G94: =+'PBI sectorial trim. a p.93'!G93/'PBI sectorial trim. a p.93'!G89-1 -> 0.057316408 | H94: =+'PBI sectorial trim. a p.93'!H93/'PBI sectorial trim. a p.93'!H89-1 -> -0.043148067 | I94: =+'PBI sectorial trim. a p.93'!I93/'PBI sectorial trim. a p.93'!I89-1 -> 0.00048861991 | ... T94: =+'PBI sectorial trim. a p.93'!T93/'PBI sectorial trim. a p.93'!T89-1 -> 0.0056082781

Sheet PBI sectorial anual a p.93
A1: ESTIMACION DEL PRODUCTO INTERNO BRUTO a precios de mercado
A2: Millones de pesos, a precios de 1993
A3: Serie Anual
A4: FUENTE: ARKLEMS+LAND
O6: VALOR | Q6: VALOR | T6: PRODUCTO
L7: Actividades | N7: Otros Servicios | O7: AGREGADO | P7: Servicios de | Q7: AGREGADO | T7: BRUTO
B8: Agricultura, | F8: Suministro de | H8: Comercio mayo- | J8: Transporte, | L8: inmobiliarias, | M8: Administración | O8: BRUTO | P8: Intermediación | Q8: BRUTO | R8: Impuesto al | T8: INTERNO
B9: ganadería, caza y | D9: Explotación de | E9: Industria | F9: electricidad, gas y | H9: rista y minorista | I9: Hoteles y | J9: almacenamiento y | K9: Intermediación | L9: empresariales y | M9: pública y | O9: SECTORIAL | P9: Financiera Medidos | Q9: a precios de | R9: Valor | S9: Impuesto a las | T9: a precios de
A10: Período | B10: silvicultura | C10: Pesca | D10: minas y canteras | E10: manufacturera | F10: agua | G10: Construcción | H10: y reparaciones | I10: restaurantes | J10: comunicaciones | K10: financiera | L10: de alquiler | M10: defensa | O10: (sin netear SIFMI) | P10: Indirectamente | Q10: productor | R10: Agregado | S10: importaciones | T10: mercado
A11: 1993 | B11: =AVERAGE(OFFSET('PBI sectorial trim. a p.93'!B$10,4*(ROW('PBI sectorial trim. a p.93'!B13)-ROW('PBI sectorial trim. a p.93'!B$13)),0,4,1)) -> 11736.94 | C11: =AVERAGE(OFFSET('PBI sectorial trim. a p.93'!C$10,4*(ROW('PBI sectorial trim. a p.93'!C13)-ROW('PBI sectorial trim. a p.93'!C$13)),0,4,1)) -> 411.91007 | D11: =AVERAGE(OFFSET('PBI sectorial trim. a p.93'!D$10,4*(ROW('PBI sectorial trim. a p.93'!D13)-ROW('PBI sectorial trim. a p.93'!D$13)),0,4,1)) -> 3527.2132 | E11: =AVERAGE(OFFSET('PBI sectorial trim. a p.93'!E$10,4*(ROW('PBI sectorial trim. a p.93'!E13)-ROW('PBI sectorial trim. a p.93'!E$13)),0,4,1)) -> 43138.298 | F11: =AVERAGE(OFFSET('PBI sectorial trim. a p.93'!F$10,4*(ROW('PBI sectorial trim. a p.93'!F13)-ROW('PBI sectorial trim. a p.93'!F$13)),0,4,1)) -> 4599.0343 | G11: =AVERAGE(OFFSET('PBI sectorial trim. a p.93'!G$10,4*(ROW('PBI sectorial trim. a p.93'!G13)-ROW('PBI sectorial trim. a p.93'!G$13)),0,4,1)) -> 13392.933 | H11: =AVERAGE(OFFSET('PBI sectorial trim. a p.93'!H$10,4*(ROW('PBI sectorial trim. a p.93'!H13)-ROW('PBI sectorial trim. a p.93'!H$13)),0,4,1)) -> 33862.497 | I11: =AVERAGE(OFFSET('PBI sectorial trim. a p.93'!I$10,4*(ROW('PBI sectorial trim. a p.93'!I13)-ROW('PBI sectorial trim. a p.93'!I$13)),0,4,1)) -> 5431.7906 | ... N11: =AVERAGE(OFFSET('PBI sectorial trim. a p.93'!N$10,4*(ROW('PBI sectorial trim. a p.93'!N13)-ROW('PBI sectorial trim. a p.93'!N$13)),0,4,1)) -> 30981.627 | O11: =SUM(B11:N11) -> 221208.93 | P11: =AVERAGE(OFFSET('PBI sectorial trim. a p.93'!P$10,4*(ROW('PBI sectorial trim. a p.93'!P13)-ROW('PBI sectorial trim. a p.93'!P$13)),0,4,1)) -> 3411.0271 | Q11: =+O11-P11 -> 217797.9 | R11: =AVERAGE(OFFSET('PBI sectorial trim. a p.93'!R$10,4*(ROW('PBI sectorial trim. a p.93'!R13)-ROW('PBI sectorial trim. a p.93'!R$13)),0,4,1)) -> 16266.64 | S11: =AVERAGE(OFFSET('PBI sectorial trim. a p.93'!S$10,4*(ROW('PBI sectorial trim. a p.93'!S13)-ROW('PBI sectorial trim. a p.93'!S$13)),0,4,1)) -> 2440.4394 | T11: =+Q11+R11+S11 -> 236504.98
A12: 1994 | B12: =AVERAGE(OFFSET('PBI sectorial trim. a p.93'!B$10,4*(ROW('PBI sectorial trim. a p.93'!B14)-ROW('PBI sectorial trim. a p.93'!B$13)),0,4,1)) -> 12652.803 | C12: =AVERAGE(OFFSET('PBI sectorial trim. a p.93'!C$10,4*(ROW('PBI sectorial trim. a p.93'!C14)-ROW('PBI sectorial trim. a p.93'!C$13)),0,4,1)) -> 403.82447 | D12: =AVERAGE(OFFSET('PBI sectorial trim. a p.93'!D$10,4*(ROW('PBI sectorial trim. a p.93'!D14)-ROW('PBI sectorial trim. a p.93'!D$13)),0,4,1)) -> 4012.2594 | E12: =AVERAGE(OFFSET('PBI sectorial trim. a p.93'!E$10,4*(ROW('PBI sectorial trim. a p.93'!E14)-ROW('PBI sectorial trim. a p.93'!E$13)),0,4,1)) -> 45079.364 | F12: =AVERAGE(OFFSET('PBI sectorial trim. a p.93'!F$10,4*(ROW('PBI sectorial trim. a p.93'!F14)-ROW('PBI sectorial trim. a p.93'!F$13)),0,4,1)) -> 5097.3501 | G12: =AVERAGE(OFFSET('PBI sectorial trim. a p.93'!G$10,4*(ROW('PBI sectorial trim. a p.93'!G14)-ROW('PBI sectorial trim. a p.93'!G$13)),0,4,1)) -> 14163.906 | H12: =AVERAGE(OFFSET('PBI sectorial trim. a p.93'!H$10,4*(ROW('PBI sectorial trim. a p.93'!H14)-ROW('PBI sectorial trim. a p.93'!H$13)),0,4,1)) -> 36044.623 | I12: =AVERAGE(OFFSET('PBI sectorial trim. a p.93'!I$10,4*(ROW('PBI sectorial trim. a p.93'!I14)-ROW('PBI sectorial trim. a p.93'!I$13)),0,4,1)) -> 5894.0821 | ... T12: =AVERAGE(OFFSET('PBI sectorial trim. a p.93'!T$10,4*(ROW('PBI sectorial trim. a p.93'!T14)-ROW('PBI sectorial trim. a p.93'!T$13)),0,4,1)) -> 250307.89
A13: 1995 | B13: =AVERAGE(OFFSET('PBI sectorial trim. a p.93'!B$10,4*(ROW('PBI sectorial trim. a p.93'!B15)-ROW('PBI sectorial trim. a p.93'!B$13)),0,4,1)) -> 13380.019 | C13: =AVERAGE(OFFSET('PBI sectorial trim. a p.93'!C$10,4*(ROW('PBI sectorial trim. a p.93'!C15)-ROW('PBI sectorial trim. a p.93'!C$13)),0,4,1)) -> 411.02793 | D13: =AVERAGE(OFFSET('PBI sectorial trim. a p.93'!D$10,4*(ROW('PBI sectorial trim. a p.93'!D15)-ROW('PBI sectorial trim. a p.93'!D$13)),0,4,1)) -> 4670.0002 | E13: =AVERAGE(OFFSET('PBI sectorial trim. a p.93'!E$10,4*(ROW('PBI sectorial trim. a p.93'!E15)-ROW('PBI sectorial trim. a p.93'!E$13)),0,4,1)) -> 41849.614 | F13: =AVERAGE(OFFSET('PBI sectorial trim. a p.93'!F$10,4*(ROW('PBI sectorial trim. a p.93'!F15)-ROW('PBI sectorial trim. a p.93'!F$13)),0,4,1)) -> 5476.1634 | G13: =AVERAGE(OFFSET('PBI sectorial trim. a p.93'!G$10,4*(ROW('PBI sectorial trim. a p.93'!G15)-ROW('PBI sectorial trim. a p.93'!G$13)),0,4,1)) -> 12441.097 | H13: =AVERAGE(OFFSET('PBI sectorial trim. a p.93'!H$10,4*(ROW('PBI sectorial trim. a p.93'!H15)-ROW('PBI sectorial trim. a p.93'!H$13)),0,4,1)) -> 33066.504 | I13: =AVERAGE(OFFSET('PBI sectorial trim. a p.93'!I$10,4*(ROW('PBI sectorial trim. a p.93'!I15)-ROW('PBI sectorial trim. a p.93'!I$13)),0,4,1)) -> 5737.5066 | ... T13: =AVERAGE(OFFSET('PBI sectorial trim. a p.93'!T$10,4*(ROW('PBI sectorial trim. a p.93'!T15)-ROW('PBI sectorial trim. a p.93'!T$13)),0,4,1)) -> 243186.1
A14: 1996 | B14: =AVERAGE(OFFSET('PBI sectorial trim. a p.93'!B$10,4*(ROW('PBI sectorial trim. a p.93'!B16)-ROW('PBI sectorial trim. a p.93'!B$13)),0,4,1)) -> 13167.155 | C14: =AVERAGE(OFFSET('PBI sectorial trim. a p.93'!C$10,4*(ROW('PBI sectorial trim. a p.93'!C16)-ROW('PBI sectorial trim. a p.93'!C$13)),0,4,1)) -> 465.21833 | D14: =AVERAGE(OFFSET('PBI sectorial trim. a p.93'!D$10,4*(ROW('PBI sectorial trim. a p.93'!D16)-ROW('PBI sectorial trim. a p.93'!D$13)),0,4,1)) -> 4881.5385 | E14: =AVERAGE(OFFSET('PBI sectorial trim. a p.93'!E$10,4*(ROW('PBI sectorial trim. a p.93'!E16)-ROW('PBI sectorial trim. a p.93'!E$13)),0,4,1)) -> 44549.7 | F14: =AVERAGE(OFFSET('PBI sectorial trim. a p.93'!F$10,4*(ROW('PBI sectorial trim. a p.93'!F16)-ROW('PBI sectorial trim. a p.93'!F$13)),0,4,1)) -> 5698.1169 | G14: =AVERAGE(OFFSET('PBI sectorial trim. a p.93'!G$10,4*(ROW('PBI sectorial trim. a p.93'!G16)-ROW('PBI sectorial trim. a p.93'!G$13)),0,4,1)) -> 13491.541 | H14: =AVERAGE(OFFSET('PBI sectorial trim. a p.93'!H$10,4*(ROW('PBI sectorial trim. a p.93'!H16)-ROW('PBI sectorial trim. a p.93'!H$13)),0,4,1)) -> 35556.767 | I14: =AVERAGE(OFFSET('PBI sectorial trim. a p.93'!I$10,4*(ROW('PBI sectorial trim. a p.93'!I16)-ROW('PBI sectorial trim. a p.93'!I$13)),0,4,1)) -> 6309.2719 | ... T14: =AVERAGE(OFFSET('PBI sectorial trim. a p.93'!T$10,4*(ROW('PBI sectorial trim. a p.93'!T16)-ROW('PBI sectorial trim. a p.93'!T$13)),0,4,1)) -> 256626.24
A15: 1997 | B15: =AVERAGE(OFFSET('PBI sectorial trim. a p.93'!B$10,4*(ROW('PBI sectorial trim. a p.93'!B17)-ROW('PBI sectorial trim. a p.93'!B$13)),0,4,1)) -> 13194.738 | C15: =AVERAGE(OFFSET('PBI sectorial trim. a p.93'!C$10,4*(ROW('PBI sectorial trim. a p.93'!C17)-ROW('PBI sectorial trim. a p.93'!C$13)),0,4,1)) -> 500.49796 | D15: =AVERAGE(OFFSET('PBI sectorial trim. a p.93'!D$10,4*(ROW('PBI sectorial trim. a p.93'!D17)-ROW('PBI sectorial trim. a p.93'!D$13)),0,4,1)) -> 4915.069 | E15: =AVERAGE(OFFSET('PBI sectorial trim. a p.93'!E$10,4*(ROW('PBI sectorial trim. a p.93'!E17)-ROW('PBI sectorial trim. a p.93'!E$13)),0,4,1)) -> 48626.636 | F15: =AVERAGE(OFFSET('PBI sectorial trim. a p.93'!F$10,4*(ROW('PBI sectorial trim. a p.93'!F17)-ROW('PBI sectorial trim. a p.93'!F$13)),0,4,1)) -> 6163.814 | G15: =AVERAGE(OFFSET('PBI sectorial trim. a p.93'!G$10,4*(ROW('PBI sectorial trim. a p.93'!G17)-ROW('PBI sectorial trim. a p.93'!G$13)),0,4,1)) -> 15728.601 | H15: =AVERAGE(OFFSET('PBI sectorial trim. a p.93'!H$10,4*(ROW('PBI sectorial trim. a p.93'!H17)-ROW('PBI sectorial trim. a p.93'!H$13)),0,4,1)) -> 39322.596 | I15: =AVERAGE(OFFSET('PBI sectorial trim. a p.93'!I$10,4*(ROW('PBI sectorial trim. a p.93'!I17)-ROW('PBI sectorial trim. a p.93'!I$13)),0,4,1)) -> 7099.6777 | ... T15: =AVERAGE(OFFSET('PBI sectorial trim. a p.93'!T$10,4*(ROW('PBI sectorial trim. a p.93'!T17)-ROW('PBI sectorial trim. a p.93'!T$13)),0,4,1)) -> 277441.32
A16: 1998 | B16: =AVERAGE(OFFSET('PBI sectorial trim. a p.93'!B$10,4*(ROW('PBI sectorial trim. a p.93'!B18)-ROW('PBI sectorial trim. a p.93'!B$13)),0,4,1)) -> 14444.731 | C16: =AVERAGE(OFFSET('PBI sectorial trim. a p.93'!C$10,4*(ROW('PBI sectorial trim. a p.93'!C18)-ROW('PBI sectorial trim. a p.93'!C$13)),0,4,1)) -> 446.18133 | D16: =AVERAGE(OFFSET('PBI sectorial trim. a p.93'!D$10,4*(ROW('PBI sectorial trim. a p.93'!D18)-ROW('PBI sectorial trim. a p.93'!D$13)),0,4,1)) -> 4726.6709 | E16: =AVERAGE(OFFSET('PBI sectorial trim. a p.93'!E$10,4*(ROW('PBI sectorial trim. a p.93'!E18)-ROW('PBI sectorial trim. a p.93'!E$13)),0,4,1)) -> 49525.624 | F16: =AVERAGE(OFFSET('PBI sectorial trim. a p.93'!F$10,4*(ROW('PBI sectorial trim. a p.93'!F18)-ROW('PBI sectorial trim. a p.93'!F$13)),0,4,1)) -> 6634.312 | G16: =AVERAGE(OFFSET('PBI sectorial trim. a p.93'!G$10,4*(ROW('PBI sectorial trim. a p.93'!G18)-ROW('PBI sectorial trim. a p.93'!G$13)),0,4,1)) -> 17094.671 | H16: =AVERAGE(OFFSET('PBI sectorial trim. a p.93'!H$10,4*(ROW('PBI sectorial trim. a p.93'!H18)-ROW('PBI sectorial trim. a p.93'!H$13)),0,4,1)) -> 40450.696 | I16: =AVERAGE(OFFSET('PBI sectorial trim. a p.93'!I$10,4*(ROW('PBI sectorial trim. a p.93'!I18)-ROW('PBI sectorial trim. a p.93'!I$13)),0,4,1)) -> 7551.4352 | ... T16: =AVERAGE(OFFSET('PBI sectorial trim. a p.93'!T$10,4*(ROW('PBI sectorial trim. a p.93'!T18)-ROW('PBI sectorial trim. a p.93'!T$13)),0,4,1)) -> 288123.3
A17: 1999 | B17: =AVERAGE(OFFSET('PBI sectorial trim. a p.93'!B$10,4*(ROW('PBI sectorial trim. a p.93'!B19)-ROW('PBI sectorial trim. a p.93'!B$13)),0,4,1)) -> 14824.412 | C17: =AVERAGE(OFFSET('PBI sectorial trim. a p.93'!C$10,4*(ROW('PBI sectorial trim. a p.93'!C19)-ROW('PBI sectorial trim. a p.93'!C$13)),0,4,1)) -> 434.12629 | D17: =AVERAGE(OFFSET('PBI sectorial trim. a p.93'!D$10,4*(ROW('PBI sectorial trim. a p.93'!D19)-ROW('PBI sectorial trim. a p.93'!D$13)),0,4,1)) -> 4572.1198 | E17: =AVERAGE(OFFSET('PBI sectorial trim. a p.93'!E$10,4*(ROW('PBI sectorial trim. a p.93'!E19)-ROW('PBI sectorial trim. a p.93'!E$13)),0,4,1)) -> 45598.803 | F17: =AVERAGE(OFFSET('PBI sectorial trim. a p.93'!F$10,4*(ROW('PBI sectorial trim. a p.93'!F19)-ROW('PBI sectorial trim. a p.93'!F$13)),0,4,1)) -> 6872.8503 | G17: =AVERAGE(OFFSET('PBI sectorial trim. a p.93'!G$10,4*(ROW('PBI sectorial trim. a p.93'!G19)-ROW('PBI sectorial trim. a p.93'!G$13)),0,4,1)) -> 15751.905 | H17: =AVERAGE(OFFSET('PBI sectorial trim. a p.93'!H$10,4*(ROW('PBI sectorial trim. a p.93'!H19)-ROW('PBI sectorial trim. a p.93'!H$13)),0,4,1)) -> 37464.438 | I17: =AVERAGE(OFFSET('PBI sectorial trim. a p.93'!I$10,4*(ROW('PBI sectorial trim. a p.93'!I19)-ROW('PBI sectorial trim. a p.93'!I$13)),0,4,1)) -> 7236.1347 | ... T17: =AVERAGE(OFFSET('PBI sectorial trim. a p.93'!T$10,4*(ROW('PBI sectorial trim. a p.93'!T19)-ROW('PBI sectorial trim. a p.93'!T$13)),0,4,1)) -> 278369.01
A18: 2000 | B18: =AVERAGE(OFFSET('PBI sectorial trim. a p.93'!B$10,4*(ROW('PBI sectorial trim. a p.93'!B20)-ROW('PBI sectorial trim. a p.93'!B$13)),0,4,1)) -> 14567.05 | C18: =AVERAGE(OFFSET('PBI sectorial trim. a p.93'!C$10,4*(ROW('PBI sectorial trim. a p.93'!C20)-ROW('PBI sectorial trim. a p.93'!C$13)),0,4,1)) -> 423.73406 | D18: =AVERAGE(OFFSET('PBI sectorial trim. a p.93'!D$10,4*(ROW('PBI sectorial trim. a p.93'!D20)-ROW('PBI sectorial trim. a p.93'!D$13)),0,4,1)) -> 4879.5792 | E18: =AVERAGE(OFFSET('PBI sectorial trim. a p.93'!E$10,4*(ROW('PBI sectorial trim. a p.93'!E20)-ROW('PBI sectorial trim. a p.93'!E$13)),0,4,1)) -> 43855.461 | F18: =AVERAGE(OFFSET('PBI sectorial trim. a p.93'!F$10,4*(ROW('PBI sectorial trim. a p.93'!F20)-ROW('PBI sectorial trim. a p.93'!F$13)),0,4,1)) -> 7325.3168 | G18: =AVERAGE(OFFSET('PBI sectorial trim. a p.93'!G$10,4*(ROW('PBI sectorial trim. a p.93'!G20)-ROW('PBI sectorial trim. a p.93'!G$13)),0,4,1)) -> 14284.168 | H18: =AVERAGE(OFFSET('PBI sectorial trim. a p.93'!H$10,4*(ROW('PBI sectorial trim. a p.93'!H20)-ROW('PBI sectorial trim. a p.93'!H$13)),0,4,1)) -> 36386.752 | I18: =AVERAGE(OFFSET('PBI sectorial trim. a p.93'!I$10,4*(ROW('PBI sectorial trim. a p.93'!I20)-ROW('PBI sectorial trim. a p.93'!I$13)),0,4,1)) -> 7235.8991 | ... T18: =AVERAGE(OFFSET('PBI sectorial trim. a p.93'!T$10,4*(ROW('PBI sectorial trim. a p.93'!T20)-ROW('PBI sectorial trim. a p.93'!T$13)),0,4,1)) -> 276172.69
A19: 2001 | B19: =AVERAGE(OFFSET('PBI sectorial trim. a p.93'!B$10,4*(ROW('PBI sectorial trim. a p.93'!B21)-ROW('PBI sectorial trim. a p.93'!B$13)),0,4,1)) -> 14612.296 | C19: =AVERAGE(OFFSET('PBI sectorial trim. a p.93'!C$10,4*(ROW('PBI sectorial trim. a p.93'!C21)-ROW('PBI sectorial trim. a p.93'!C$13)),0,4,1)) -> 536.14385 | D19: =AVERAGE(OFFSET('PBI sectorial trim. a p.93'!D$10,4*(ROW('PBI sectorial trim. a p.93'!D21)-ROW('PBI sectorial trim. a p.93'!D$13)),0,4,1)) -> 5107.1187 | E19: =AVERAGE(OFFSET('PBI sectorial trim. a p.93'!E$10,4*(ROW('PBI sectorial trim. a p.93'!E21)-ROW('PBI sectorial trim. a p.93'!E$13)),0,4,1)) -> 40626.828 | F19: =AVERAGE(OFFSET('PBI sectorial trim. a p.93'!F$10,4*(ROW('PBI sectorial trim. a p.93'!F21)-ROW('PBI sectorial trim. a p.93'!F$13)),0,4,1)) -> 7407.0489 | G19: =AVERAGE(OFFSET('PBI sectorial trim. a p.93'!G$10,4*(ROW('PBI sectorial trim. a p.93'!G21)-ROW('PBI sectorial trim. a p.93'!G$13)),0,4,1)) -> 12627.051 | H19: =AVERAGE(OFFSET('PBI sectorial trim. a p.93'!H$10,4*(ROW('PBI sectorial trim. a p.93'!H21)-ROW('PBI sectorial trim. a p.93'!H$13)),0,4,1)) -> 33513.58 | I19: =AVERAGE(OFFSET('PBI sectorial trim. a p.93'!I$10,4*(ROW('PBI sectorial trim. a p.93'!I21)-ROW('PBI sectorial trim. a p.93'!I$13)),0,4,1)) -> 6708.1724 | ... T19: =AVERAGE(OFFSET('PBI sectorial trim. a p.93'!T$10,4*(ROW('PBI sectorial trim. a p.93'!T21)-ROW('PBI sectorial trim. a p.93'!T$13)),0,4,1)) -> 263996.67
A20: 2002 | B20: =AVERAGE(OFFSET('PBI sectorial trim. a p.93'!B$10,4*(ROW('PBI sectorial trim. a p.93'!B22)-ROW('PBI sectorial trim. a p.93'!B$13)),0,4,1)) -> 14369.71 | C20: =AVERAGE(OFFSET('PBI sectorial trim. a p.93'!C$10,4*(ROW('PBI sectorial trim. a p.93'!C22)-ROW('PBI sectorial trim. a p.93'!C$13)),0,4,1)) -> 432.65477 | D20: =AVERAGE(OFFSET('PBI sectorial trim. a p.93'!D$10,4*(ROW('PBI sectorial trim. a p.93'!D22)-ROW('PBI sectorial trim. a p.93'!D$13)),0,4,1)) -> 4916.015 | E20: =AVERAGE(OFFSET('PBI sectorial trim. a p.93'!E$10,4*(ROW('PBI sectorial trim. a p.93'!E22)-ROW('PBI sectorial trim. a p.93'!E$13)),0,4,1)) -> 36176.069 | F20: =AVERAGE(OFFSET('PBI sectorial trim. a p.93'!F$10,4*(ROW('PBI sectorial trim. a p.93'!F22)-ROW('PBI sectorial trim. a p.93'!F$13)),0,4,1)) -> 7182.4547 | G20: =AVERAGE(OFFSET('PBI sectorial trim. a p.93'!G$10,4*(ROW('PBI sectorial trim. a p.93'!G22)-ROW('PBI sectorial trim. a p.93'!G$13)),0,4,1)) -> 8409.5992 | H20: =AVERAGE(OFFSET('PBI sectorial trim. a p.93'!H$10,4*(ROW('PBI sectorial trim. a p.93'!H22)-ROW('PBI sectorial trim. a p.93'!H$13)),0,4,1)) -> 27324.936 | I20: =AVERAGE(OFFSET('PBI sectorial trim. a p.93'!I$10,4*(ROW('PBI sectorial trim. a p.93'!I22)-ROW('PBI sectorial trim. a p.93'!I$13)),0,4,1)) -> 6152.1905 | ... T20: =AVERAGE(OFFSET('PBI sectorial trim. a p.93'!T$10,4*(ROW('PBI sectorial trim. a p.93'!T22)-ROW('PBI sectorial trim. a p.93'!T$13)),0,4,1)) -> 235235.6
A21: 2003 | B21: =AVERAGE(OFFSET('PBI sectorial trim. a p.93'!B$10,4*(ROW('PBI sectorial trim. a p.93'!B23)-ROW('PBI sectorial trim. a p.93'!B$13)),0,4,1)) -> 15381.78 | C21: =AVERAGE(OFFSET('PBI sectorial trim. a p.93'!C$10,4*(ROW('PBI sectorial trim. a p.93'!C23)-ROW('PBI sectorial trim. a p.93'!C$13)),0,4,1)) -> 437.77597 | D21: =AVERAGE(OFFSET('PBI sectorial trim. a p.93'!D$10,4*(ROW('PBI sectorial trim. a p.93'!D23)-ROW('PBI sectorial trim. a p.93'!D$13)),0,4,1)) -> 5099.0331 | E21: =AVERAGE(OFFSET('PBI sectorial trim. a p.93'!E$10,4*(ROW('PBI sectorial trim. a p.93'!E23)-ROW('PBI sectorial trim. a p.93'!E$13)),0,4,1)) -> 41952.37 | F21: =AVERAGE(OFFSET('PBI sectorial trim. a p.93'!F$10,4*(ROW('PBI sectorial trim. a p.93'!F23)-ROW('PBI sectorial trim. a p.93'!F$13)),0,4,1)) -> 7680.7001 | G21: =AVERAGE(OFFSET('PBI sectorial trim. a p.93'!G$10,4*(ROW('PBI sectorial trim. a p.93'!G23)-ROW('PBI sectorial trim. a p.93'!G$13)),0,4,1)) -> 11300.054 | H21: =AVERAGE(OFFSET('PBI sectorial trim. a p.93'!H$10,4*(ROW('PBI sectorial trim. a p.93'!H23)-ROW('PBI sectorial trim. a p.93'!H$13)),0,4,1)) -> 30860.713 | I21: =AVERAGE(OFFSET('PBI sectorial trim. a p.93'!I$10,4*(ROW('PBI sectorial trim. a p.93'!I23)-ROW('PBI sectorial trim. a p.93'!I$13)),0,4,1)) -> 6521.8027 | ... T21: =AVERAGE(OFFSET('PBI sectorial trim. a p.93'!T$10,4*(ROW('PBI sectorial trim. a p.93'!T23)-ROW('PBI sectorial trim. a p.93'!T$13)),0,4,1)) -> 256023.46
A22: 2004 | B22: =AVERAGE(OFFSET('PBI sectorial trim. a p.93'!B$10,4*(ROW('PBI sectorial trim. a p.93'!B24)-ROW('PBI sectorial trim. a p.93'!B$13)),0,4,1)) -> 15223.504 | C22: =AVERAGE(OFFSET('PBI sectorial trim. a p.93'!C$10,4*(ROW('PBI sectorial trim. a p.93'!C24)-ROW('PBI sectorial trim. a p.93'!C$13)),0,4,1)) -> 354.34369 | D22: =AVERAGE(OFFSET('PBI sectorial trim. a p.93'!D$10,4*(ROW('PBI sectorial trim. a p.93'!D24)-ROW('PBI sectorial trim. a p.93'!D$13)),0,4,1)) -> 5077.5428 | E22: =AVERAGE(OFFSET('PBI sectorial trim. a p.93'!E$10,4*(ROW('PBI sectorial trim. a p.93'!E24)-ROW('PBI sectorial trim. a p.93'!E$13)),0,4,1)) -> 46976.61 | F22: =AVERAGE(OFFSET('PBI sectorial trim. a p.93'!F$10,4*(ROW('PBI sectorial trim. a p.93'!F24)-ROW('PBI sectorial trim. a p.93'!F$13)),0,4,1)) -> 8183.4464 | G22: =AVERAGE(OFFSET('PBI sectorial trim. a p.93'!G$10,4*(ROW('PBI sectorial trim. a p.93'!G24)-ROW('PBI sectorial trim. a p.93'!G$13)),0,4,1)) -> 14622.718 | H22: =AVERAGE(OFFSET('PBI sectorial trim. a p.93'!H$10,4*(ROW('PBI sectorial trim. a p.93'!H24)-ROW('PBI sectorial trim. a p.93'!H$13)),0,4,1)) -> 35050.441 | I22: =AVERAGE(OFFSET('PBI sectorial trim. a p.93'!I$10,4*(ROW('PBI sectorial trim. a p.93'!I24)-ROW('PBI sectorial trim. a p.93'!I$13)),0,4,1)) -> 6978.0339 | ... T22: =AVERAGE(OFFSET('PBI sectorial trim. a p.93'!T$10,4*(ROW('PBI sectorial trim. a p.93'!T24)-ROW('PBI sectorial trim. a p.93'!T$13)),0,4,1)) -> 279141.29
A23: 2005 | B23: =AVERAGE(OFFSET('PBI sectorial trim. a p.93'!B$10,4*(ROW('PBI sectorial trim. a p.93'!B25)-ROW('PBI sectorial trim. a p.93'!B$13)),0,4,1)) -> 17004.915 | C23: =AVERAGE(OFFSET('PBI sectorial trim. a p.93'!C$10,4*(ROW('PBI sectorial trim. a p.93'!C25)-ROW('PBI sectorial trim. a p.93'!C$13)),0,4,1)) -> 303.74597 | D23: =AVERAGE(OFFSET('PBI sectorial trim. a p.93'!D$10,4*(ROW('PBI sectorial trim. a p.93'!D25)-ROW('PBI sectorial trim. a p.93'!D$13)),0,4,1)) -> 5068.1462 | E23: =AVERAGE(OFFSET('PBI sectorial trim. a p.93'!E$10,4*(ROW('PBI sectorial trim. a p.93'!E25)-ROW('PBI sectorial trim. a p.93'!E$13)),0,4,1)) -> 50480.321 | F23: =AVERAGE(OFFSET('PBI sectorial trim. a p.93'!F$10,4*(ROW('PBI sectorial trim. a p.93'!F25)-ROW('PBI sectorial trim. a p.93'!F$13)),0,4,1)) -> 8594.5304 | G23: =AVERAGE(OFFSET('PBI sectorial trim. a p.93'!G$10,4*(ROW('PBI sectorial trim. a p.93'!G25)-ROW('PBI sectorial trim. a p.93'!G$13)),0,4,1)) -> 17605.252 | H23: =AVERAGE(OFFSET('PBI sectorial trim. a p.93'!H$10,4*(ROW('PBI sectorial trim. a p.93'!H25)-ROW('PBI sectorial trim. a p.93'!H$13)),0,4,1)) -> 38489.344 | I23: =AVERAGE(OFFSET('PBI sectorial trim. a p.93'!I$10,4*(ROW('PBI sectorial trim. a p.93'!I25)-ROW('PBI sectorial trim. a p.93'!I$13)),0,4,1)) -> 7530.1623 | ... T23: =AVERAGE(OFFSET('PBI sectorial trim. a p.93'!T$10,4*(ROW('PBI sectorial trim. a p.93'!T25)-ROW('PBI sectorial trim. a p.93'!T$13)),0,4,1)) -> 304763.53
... A31: 2013 | B31: =AVERAGE(OFFSET('PBI sectorial trim. a p.93'!B$10,4*(ROW('PBI sectorial trim. a p.93'!B33)-ROW('PBI sectorial trim. a p.93'!B$13)),0,4,1)) -> 19262.418 | C31: =AVERAGE(OFFSET('PBI sectorial trim. a p.93'!C$10,4*(ROW('PBI sectorial trim. a p.93'!C33)-ROW('PBI sectorial trim. a p.93'!C$13)),0,4,1)) -> 613.71039 | D31: =AVERAGE(OFFSET('PBI sectorial trim. a p.93'!D$10,4*(ROW('PBI sectorial trim. a p.93'!D33)-ROW('PBI sectorial trim. a p.93'!D$13)),0,4,1)) -> 4580.0119 | E31: =AVERAGE(OFFSET('PBI sectorial trim. a p.93'!E$10,4*(ROW('PBI sectorial trim. a p.93'!E33)-ROW('PBI sectorial trim. a p.93'!E$13)),0,4,1)) -> 65333.358 | F31: =AVERAGE(OFFSET('PBI sectorial trim. a p.93'!F$10,4*(ROW('PBI sectorial trim. a p.93'!F33)-ROW('PBI sectorial trim. a p.93'!F$13)),0,4,1)) -> 11298.81 | G31: =AVERAGE(OFFSET('PBI sectorial trim. a p.93'!G$10,4*(ROW('PBI sectorial trim. a p.93'!G33)-ROW('PBI sectorial trim. a p.93'!G$13)),0,4,1)) -> 25164.573 | H31: =AVERAGE(OFFSET('PBI sectorial trim. a p.93'!H$10,4*(ROW('PBI sectorial trim. a p.93'!H33)-ROW('PBI sectorial trim. a p.93'!H$13)),0,4,1)) -> 51408.772 | I31: =AVERAGE(OFFSET('PBI sectorial trim. a p.93'!I$10,4*(ROW('PBI sectorial trim. a p.93'!I33)-ROW('PBI sectorial trim. a p.93'!I$13)),0,4,1)) -> 9277.828 | ... T31: =AVERAGE(OFFSET('PBI sectorial trim. a p.93'!T$10,4*(ROW('PBI sectorial trim. a p.93'!T33)-ROW('PBI sectorial trim. a p.93'!T$13)),0,4,1)) -> 424832.6

Sheet %Var Serie Anual
A1: ESTIMACION DEL PRODUCTO INTERNO BRUTO
A2: Tasa de Variacion Anual
A3: FUENTE: ARKLEMS+LAND
O6: VALOR | Q6: VALOR | T6: PRODUCTO
L7: Actividades | N7: Otros Servicios | O7: AGREGADO | P7: Servicios de | Q7: AGREGADO | T7: BRUTO
B8: Agricultura, | F8: Suministro de | H8: Comercio mayo- | J8: Transporte, | L8: inmobiliarias, | M8: Administración | O8: BRUTO | P8: Intermediación | Q8: BRUTO | R8: Impuesto al | T8: INTERNO
B9: ganadería, caza y | D9: Explotación de | E9: Industria | F9: electricidad, gas y | H9: rista y minorista | I9: Hoteles y | J9: almacenamiento y | K9: Intermediación | L9: empresariales y | M9: pública y | O9: SECTORIAL | P9: Financiera Medidos | Q9: a precios de | R9: Valor | S9: Impuesto a las | T9: a precios de
A10: Año | B10: silvicultura | C10: Pesca | D10: minas y canteras | E10: manufacturera | F10: agua | G10: Construcción | H10: y reparaciones | I10: restaurantes | J10: comunicaciones | K10: financiera | L10: de alquiler | M10: defensa | O10: (sin netear SIFMI) | P10: Indirectamente | Q10: productor | R10: Agregado | S10: importaciones | T10: mercado
A12: 1994 | B12: =+'PBI sectorial anual a p.93'!B12/'PBI sectorial anual a p.93'!B11-1 -> 0.078032538 | C12: =+'PBI sectorial anual a p.93'!C12/'PBI sectorial anual a p.93'!C11-1 -> -0.01962952 | D12: =+'PBI sectorial anual a p.93'!D12/'PBI sectorial anual a p.93'!D11-1 -> 0.1375154 | E12: =+'PBI sectorial anual a p.93'!E12/'PBI sectorial anual a p.93'!E11-1 -> 0.04499636 | F12: =+'PBI sectorial anual a p.93'!F12/'PBI sectorial anual a p.93'!F11-1 -> 0.10835228 | G12: =+'PBI sectorial anual a p.93'!G12/'PBI sectorial anual a p.93'!G11-1 -> 0.057565671 | H12: =+'PBI sectorial anual a p.93'!H12/'PBI sectorial anual a p.93'!H11-1 -> 0.06444079 | I12: =+'PBI sectorial anual a p.93'!I12/'PBI sectorial anual a p.93'!I11-1 -> 0.085108476 | ... T12: =+'PBI sectorial anual a p.93'!T12/'PBI sectorial anual a p.93'!T11-1 -> 0.058362007
A13: 1995 | B13: =+'PBI sectorial anual a p.93'!B13/'PBI sectorial anual a p.93'!B12-1 -> 0.057474651 | C13: =+'PBI sectorial anual a p.93'!C13/'PBI sectorial anual a p.93'!C12-1 -> 0.017838092 | D13: =+'PBI sectorial anual a p.93'!D13/'PBI sectorial anual a p.93'!D12-1 -> 0.16393279 | E13: =+'PBI sectorial anual a p.93'!E13/'PBI sectorial anual a p.93'!E12-1 -> -0.071645866 | F13: =+'PBI sectorial anual a p.93'!F13/'PBI sectorial anual a p.93'!F12-1 -> 0.074315727 | G13: =+'PBI sectorial anual a p.93'!G13/'PBI sectorial anual a p.93'!G12-1 -> -0.12163377 | H13: =+'PBI sectorial anual a p.93'!H13/'PBI sectorial anual a p.93'!H12-1 -> -0.082623124 | I13: =+'PBI sectorial anual a p.93'!I13/'PBI sectorial anual a p.93'!I12-1 -> -0.026564852 | ... T13: =+'PBI sectorial anual a p.93'!T13/'PBI sectorial anual a p.93'!T12-1 -> -0.028452096
A14: 1996 | B14: =+'PBI sectorial anual a p.93'!B14/'PBI sectorial anual a p.93'!B13-1 -> -0.015909057 | C14: =+'PBI sectorial anual a p.93'!C14/'PBI sectorial anual a p.93'!C13-1 -> 0.13184116 | D14: =+'PBI sectorial anual a p.93'!D14/'PBI sectorial anual a p.93'!D13-1 -> 0.04529728 | E14: =+'PBI sectorial anual a p.93'!E14/'PBI sectorial anual a p.93'!E13-1 -> 0.064518777 | F14: =+'PBI sectorial anual a p.93'!F14/'PBI sectorial anual a p.93'!F13-1 -> 0.040530826 | G14: =+'PBI sectorial anual a p.93'!G14/'PBI sectorial anual a p.93'!G13-1 -> 0.084433394 | H14: =+'PBI sectorial anual a p.93'!H14/'PBI sectorial anual a p.93'!H13-1 -> 0.075310743 | I14: =+'PBI sectorial anual a p.93'!I14/'PBI sectorial anual a p.93'!I13-1 -> 0.099653963 | ... T14: =+'PBI sectorial anual a p.93'!T14/'PBI sectorial anual a p.93'!T13-1 -> 0.055266898
A15: 1997 | B15: =+'PBI sectorial anual a p.93'!B15/'PBI sectorial anual a p.93'!B14-1 -> 0.0020948085 | C15: =+'PBI sectorial anual a p.93'!C15/'PBI sectorial anual a p.93'!C14-1 -> 0.07583457 | D15: =+'PBI sectorial anual a p.93'!D15/'PBI sectorial anual a p.93'!D14-1 -> 0.0068688215 | E15: =+'PBI sectorial anual a p.93'!E15/'PBI sectorial anual a p.93'!E14-1 -> 0.091514336 | F15: =+'PBI sectorial anual a p.93'!F15/'PBI sectorial anual a p.93'!F14-1 -> 0.081728252 | G15: =+'PBI sectorial anual a p.93'!G15/'PBI sectorial anual a p.93'!G14-1 -> 0.16581209 | H15: =+'PBI sectorial anual a p.93'!H15/'PBI sectorial anual a p.93'!H14-1 -> 0.10591034 | I15: =+'PBI sectorial anual a p.93'!I15/'PBI sectorial anual a p.93'!I14-1 -> 0.12527687 | ... T15: =+'PBI sectorial anual a p.93'!T15/'PBI sectorial anual a p.93'!T14-1 -> 0.081110468
A16: 1998 | B16: =+'PBI sectorial anual a p.93'!B16/'PBI sectorial anual a p.93'!B15-1 -> 0.094734198 | C16: =+'PBI sectorial anual a p.93'!C16/'PBI sectorial anual a p.93'!C15-1 -> -0.10852517 | D16: =+'PBI sectorial anual a p.93'!D16/'PBI sectorial anual a p.93'!D15-1 -> -0.038330713 | E16: =+'PBI sectorial anual a p.93'!E16/'PBI sectorial anual a p.93'!E15-1 -> 0.018487561 | F16: =+'PBI sectorial anual a p.93'!F16/'PBI sectorial anual a p.93'!F15-1 -> 0.076332293 | G16: =+'PBI sectorial anual a p.93'!G16/'PBI sectorial anual a p.93'!G15-1 -> 0.086852572 | H16: =+'PBI sectorial anual a p.93'!H16/'PBI sectorial anual a p.93'!H15-1 -> 0.028688343 | I16: =+'PBI sectorial anual a p.93'!I16/'PBI sectorial anual a p.93'!I15-1 -> 0.063630704 | ... T16: =+'PBI sectorial anual a p.93'!T16/'PBI sectorial anual a p.93'!T15-1 -> 0.038501789
A17: 1999 | B17: =+'PBI sectorial anual a p.93'!B17/'PBI sectorial anual a p.93'!B16-1 -> 0.02628507 | C17: =+'PBI sectorial anual a p.93'!C17/'PBI sectorial anual a p.93'!C16-1 -> -0.027018256 | D17: =+'PBI sectorial anual a p.93'!D17/'PBI sectorial anual a p.93'!D16-1 -> -0.032697661 | E17: =+'PBI sectorial anual a p.93'!E17/'PBI sectorial anual a p.93'!E16-1 -> -0.079288674 | F17: =+'PBI sectorial anual a p.93'!F17/'PBI sectorial anual a p.93'!F16-1 -> 0.035955228 | G17: =+'PBI sectorial anual a p.93'!G17/'PBI sectorial anual a p.93'!G16-1 -> -0.078548796 | H17: =+'PBI sectorial anual a p.93'!H17/'PBI sectorial anual a p.93'!H16-1 -> -0.073824632 | I17: =+'PBI sectorial anual a p.93'!I17/'PBI sectorial anual a p.93'!I16-1 -> -0.041753721 | ... T17: =+'PBI sectorial anual a p.93'!T17/'PBI sectorial anual a p.93'!T16-1 -> -0.033854571
A18: 2000 | B18: =+'PBI sectorial anual a p.93'!B18/'PBI sectorial anual a p.93'!B17-1 -> -0.01736069 | C18: =+'PBI sectorial anual a p.93'!C18/'PBI sectorial anual a p.93'!C17-1 -> -0.023938269 | D18: =+'PBI sectorial anual a p.93'!D18/'PBI sectorial anual a p.93'!D17-1 -> 0.067246579 | E18: =+'PBI sectorial anual a p.93'!E18/'PBI sectorial anual a p.93'!E17-1 -> -0.038232183 | F18: =+'PBI sectorial anual a p.93'!F18/'PBI sectorial anual a p.93'!F17-1 -> 0.065833908 | G18: =+'PBI sectorial anual a p.93'!G18/'PBI sectorial anual a p.93'!G17-1 -> -0.093178418 | H18: =+'PBI sectorial anual a p.93'!H18/'PBI sectorial anual a p.93'!H17-1 -> -0.028765574 | I18: =+'PBI sectorial anual a p.93'!I18/'PBI sectorial anual a p.93'!I17-1 -> -3.2565654e-05 | ... T18: =+'PBI sectorial anual a p.93'!T18/'PBI sectorial anual a p.93'!T17-1 -> -0.0078899892
A19: 2001 | B19: =+'PBI sectorial anual a p.93'!B19/'PBI sectorial anual a p.93'!B18-1 -> 0.0031060731 | C19: =+'PBI sectorial anual a p.93'!C19/'PBI sectorial anual a p.93'!C18-1 -> 0.26528382 | D19: =+'PBI sectorial anual a p.93'!D19/'PBI sectorial anual a p.93'!D18-1 -> 0.046630965 | E19: =+'PBI sectorial anual a p.93'!E19/'PBI sectorial anual a p.93'!E18-1 -> -0.073619875 | F19: =+'PBI sectorial anual a p.93'!F19/'PBI sectorial anual a p.93'!F18-1 -> 0.011157478 | G19: =+'PBI sectorial anual a p.93'!G19/'PBI sectorial anual a p.93'!G18-1 -> -0.1160107 | H19: =+'PBI sectorial anual a p.93'!H19/'PBI sectorial anual a p.93'!H18-1 -> -0.078962057 | I19: =+'PBI sectorial anual a p.93'!I19/'PBI sectorial anual a p.93'!I18-1 -> -0.07293173 | ... T19: =+'PBI sectorial anual a p.93'!T19/'PBI sectorial anual a p.93'!T18-1 -> -0.044088397
A20: 2002 | B20: =+'PBI sectorial anual a p.93'!B20/'PBI sectorial anual a p.93'!B19-1 -> -0.016601466 | C20: =+'PBI sectorial anual a p.93'!C20/'PBI sectorial anual a p.93'!C19-1 -> -0.19302484 | D20: =+'PBI sectorial anual a p.93'!D20/'PBI sectorial anual a p.93'!D19-1 -> -0.037419075 | E20: =+'PBI sectorial anual a p.93'!E20/'PBI sectorial anual a p.93'!E19-1 -> -0.10955221 | F20: =+'PBI sectorial anual a p.93'!F20/'PBI sectorial anual a p.93'!F19-1 -> -0.030321679 | G20: =+'PBI sectorial anual a p.93'!G20/'PBI sectorial anual a p.93'!G19-1 -> -0.33400134 | H20: =+'PBI sectorial anual a p.93'!H20/'PBI sectorial anual a p.93'!H19-1 -> -0.18466079 | I20: =+'PBI sectorial anual a p.93'!I20/'PBI sectorial anual a p.93'!I19-1 -> -0.082881276 | ... T20: =+'PBI sectorial anual a p.93'!T20/'PBI sectorial anual a p.93'!T19-1 -> -0.10894485
A21: 2003 | B21: =+'PBI sectorial anual a p.93'!B21/'PBI sectorial anual a p.93'!B20-1 -> 0.070430754 | C21: =+'PBI sectorial anual a p.93'!C21/'PBI sectorial anual a p.93'!C20-1 -> 0.011836692 | D21: =+'PBI sectorial anual a p.93'!D21/'PBI sectorial anual a p.93'!D20-1 -> 0.037228957 | E21: =+'PBI sectorial anual a p.93'!E21/'PBI sectorial anual a p.93'!E20-1 -> 0.15967188 | F21: =+'PBI sectorial anual a p.93'!F21/'PBI sectorial anual a p.93'!F20-1 -> 0.069369793 | G21: =+'PBI sectorial anual a p.93'!G21/'PBI sectorial anual a p.93'!G20-1 -> 0.343709 | H21: =+'PBI sectorial anual a p.93'!H21/'PBI sectorial anual a p.93'!H20-1 -> 0.12939747 | I21: =+'PBI sectorial anual a p.93'!I21/'PBI sectorial anual a p.93'!I20-1 -> 0.060078141 | ... T21: =+'PBI sectorial anual a p.93'!T21/'PBI sectorial anual a p.93'!T20-1 -> 0.088370408
A22: 2004 | B22: =+'PBI sectorial anual a p.93'!B22/'PBI sectorial anual a p.93'!B21-1 -> -0.010289857 | C22: =+'PBI sectorial anual a p.93'!C22/'PBI sectorial anual a p.93'!C21-1 -> -0.19058214 | D22: =+'PBI sectorial anual a p.93'!D22/'PBI sectorial anual a p.93'!D21-1 -> -0.0042145926 | E22: =+'PBI sectorial anual a p.93'!E22/'PBI sectorial anual a p.93'!E21-1 -> 0.11976056 | F22: =+'PBI sectorial anual a p.93'!F22/'PBI sectorial anual a p.93'!F21-1 -> 0.065455784 | G22: =+'PBI sectorial anual a p.93'!G22/'PBI sectorial anual a p.93'!G21-1 -> 0.29403966 | H22: =+'PBI sectorial anual a p.93'!H22/'PBI sectorial anual a p.93'!H21-1 -> 0.13576253 | I22: =+'PBI sectorial anual a p.93'!I22/'PBI sectorial anual a p.93'!I21-1 -> 0.069954769 | ... T22: =+'PBI sectorial anual a p.93'!T22/'PBI sectorial anual a p.93'!T21-1 -> 0.090295733
A23: 2005 | B23: =+'PBI sectorial anual a p.93'!B23/'PBI sectorial anual a p.93'!B22-1 -> 0.11701716 | C23: =+'PBI sectorial anual a p.93'!C23/'PBI sectorial anual a p.93'!C22-1 -> -0.14279277 | D23: =+'PBI sectorial anual a p.93'!D23/'PBI sectorial anual a p.93'!D22-1 -> -0.0018506258 | E23: =+'PBI sectorial anual a p.93'!E23/'PBI sectorial anual a p.93'!E22-1 -> 0.074584168 | F23: =+'PBI sectorial anual a p.93'!F23/'PBI sectorial anual a p.93'!F22-1 -> 0.050233604 | G23: =+'PBI sectorial anual a p.93'!G23/'PBI sectorial anual a p.93'!G22-1 -> 0.20396574 | H23: =+'PBI sectorial anual a p.93'!H23/'PBI sectorial anual a p.93'!H22-1 -> 0.098112965 | I23: =+'PBI sectorial anual a p.93'!I23/'PBI sectorial anual a p.93'!I22-1 -> 0.079123774 | ... T23: =+'PBI sectorial anual a p.93'!T23/'PBI sectorial anual a p.93'!T22-1 -> 0.091789502
... A31: 2013 | B31: =+'PBI sectorial anual a p.93'!B31/'PBI sectorial anual a p.93'!B30-1 -> 0.093367923 | C31: =+'PBI sectorial anual a p.93'!C31/'PBI sectorial anual a p.93'!C30-1 -> 0.22152698 | D31: =+'PBI sectorial anual a p.93'!D31/'PBI sectorial anual a p.93'!D30-1 -> -0.012005925 | E31: =+'PBI sectorial anual a p.93'!E31/'PBI sectorial anual a p.93'!E30-1 -> -0.0028814697 | F31: =+'PBI sectorial anual a p.93'!F31/'PBI sectorial anual a p.93'!F30-1 -> 0.020969093 | G31: =+'PBI sectorial anual a p.93'!G31/'PBI sectorial anual a p.93'!G30-1 -> 0.032499142 | H31: =+'PBI sectorial anual a p.93'!H31/'PBI sectorial anual a p.93'!H30-1 -> -0.020075615 | I31: =+'PBI sectorial anual a p.93'!I31/'PBI sectorial anual a p.93'!I30-1 -> 0.0067158913 | ... T31: =+'PBI sectorial anual a p.93'!T31/'PBI sectorial anual a p.93'!T30-1 -> 0.017541252
